BEGIN:VCALENDAR
PRODID:-//AT Content Types//AT Event//EN
VERSION:2.0
METHOD:PUBLISH
BEGIN:VEVENT
DTSTAMP:20260423T072955Z
CREATED:20070418T061734Z
UID:ATEvent-d800bf0f20f2ea7701ca7b4a6e9cdc74
LAST-MODIFIED:20070422T135309Z
SUMMARY:Ekzempla aranĝo
DTSTART:20071023T062000Z
DTEND:20071024T062000Z
DESCRIPTION:priskribo....
CONTACT:DENIZO
CLASS:PUBLIC
END:VEVENT
END:VCALENDAR
